Workbook

Sheet Indicadores de gestión
L4: Kg | N4: % | Y4: Kg | AA4: % | AL4: Kg | AN4: % | AY4: Kg | BA4: %
G5: No Aprovechables | L5: ='Enero - Junio'!$D$37 -> 1 | N5: =IF(ISERROR(L5/L17*100),"0",L5/L17*100) -> 15.384615 | T5: No Aprovechables | Y5: ='Enero - Junio'!$L$37 -> 0 | AA5: =IF(ISERROR(Y5/Y17*100),"0",Y5/Y17*100) -> 0 | AG5: No Aprovechables | AL5: ='Enero - Junio'!$S$37 -> 0 | AN5: =IF(ISERROR(AL5/AL17*100),"0",AL5/AL17*100) -> 0 | AT5: No Aprovechables | AY5: ='Enero - Junio'!$AB$37 -> 0 | BA5: =IF(ISERROR(AY5/AY17*100),"0",AY5/AY17*100) -> 0
G7: Aprovechables | L7: ='Enero - Junio'!$C$37 -> 3 | N7: =IF(ISERROR(L7/L17*100),"0",(L7/L17*100)) -> 46.153846 | T7: Aprovechables | Y7: ='Enero - Junio'!$K$37 -> 0 | AA7: =IF(ISERROR(Y7/Y17*100),"0",Y7/Y17*100) -> 0 | AG7: Aprovechables | AL7: ='Enero - Junio'!$T$37 -> 0 | AN7: =IF(ISERROR(AL7/AL17*100),"0",AL7/AL17*100) -> 0 | AT7: Aprovechables | AY7: ='Enero - Junio'!$AA$37 -> 0 | BA7: =IF(ISERROR(AY7/AY7*100),"0",AY7/AY17*100) -> 0
AN8: =IF(ISERROR(AL8/AL20*100),"0",AL8/AL20*100) -> 0 | BA8: =IF(ISERROR(AY8/AY20*100),"0",AY8/AY20*100) -> 0
G9: Orgánicos | L9: ='Enero - Junio'!$E$37 -> 0 | N9: =IF(ISERROR(L9/L17*100),"0",L9/L17*100) -> 0 | T9: Orgánicos | Y9: ='Enero - Junio'!$M$37 -> 0 | AA9: =IF(ISERROR(Y9/Y17*100),"0",Y9/Y17*100) -> 0 | AG9: Orgánicos | AL9: ='Enero - Junio'!U37 -> 0 | AN9: =IF(ISERROR(AL9/AL17*100),"0",AL9/AL17*100) -> 0 | AT9: Orgánicos | AY9: ='Enero - Junio'!$AC$37 -> 0 | BA9: =IF(ISERROR(AY9/AY17*100),"0",AY9/AY17*100) -> 0
AA10: =IF(ISERROR(Y10/Y22*100),"0",Y10/Y22*100) -> 0 | AL10: ='Enero - Junio'!U38 -> 0 | AN10: =IF(ISERROR(AL10/AL22*100),"0",AL10/AL22*100) -> 0 | BA10: =IF(ISERROR(AY10/AY22*100),"0",AY10/AY22*100) -> 0
G11: Biologícos | L11: ='Enero - Junio'!$F$37 -> 0.5 | N11: =IF(ISERROR(L11/L17*100),"0",L11/L17*100) -> 7.6923077 | T11: Biologícos | Y11: ='Enero - Junio'!$N$37 -> 0 | AA11: =IF(ISERROR(Y11/Y17*100),"0",Y11/Y17*100) -> 0 | AG11: Biologícos | AL11: ='Enero - Junio'!$V$37 -> 0 | AN11: =IF(ISERROR(AL11/AL17*100),"0",AL11/AL17*100) -> 0 | AT11: Biologícos | AY11: ='Enero - Junio'!$AD$37 -> 0 | BA11: =IF(ISERROR(AY11/AY17*100),"0",AY11/AY17*100) -> 0
AA12: =IF(ISERROR(Y12/Y24*100),"0",Y12/Y24*100) -> 0 | AL12: ='Enero - Junio'!U40 -> 0 | AN12: =IF(ISERROR(AL12/AL24*100),"0",AL12/AL24*100) -> 0 | BA12: =IF(ISERROR(AY12/AY24*100),"0",AY12/AY24*100) -> 0
G13: QuÍmicos | L13: ='Enero - Junio'!$G$37 -> 1 | N13: =IF(ISERROR(L13/L17*100),"0",L13/L17*100) -> 15.384615 | T13: QuÍmicos | Y13: ='Enero - Junio'!$O$37 -> 0 | AA13: =IF(ISERROR(Y13/Y17*100),"0",Y13/Y17*100) -> 0 | AG13: QuÍmicos | AL13: ='Enero - Junio'!$W$37 -> 0 | AN13: =IF(ISERROR(AL13/AL17*100),"0",AL13/AL17*100) -> 0 | AT13: QuÍmicos | AY13: ='Enero - Junio'!$AE$37 -> 0 | BA13: =IF(ISERROR(AY13/AY17*100),"0",AY13/AY17*100) -> 0
AA14: =IF(ISERROR(Y14/Y26*100),"0",Y14/Y26*100) -> 0 | AL14: ='Enero - Junio'!U42 -> 0 | AN14: =IF(ISERROR(AL14/AL26*100),"0",AL14/AL26*100) -> 0 | BA14: =IF(ISERROR(AY14/AY26*100),"0",AY14/AY26*100) -> 0
G15: Cortopunzante | L15: ='Enero - Junio'!$H$37 -> 1 | N15: =IF(ISERROR(L15/L17*100),"0",L15/L17*100) -> 15.384615 | T15: Cortopunzante | Y15: ='Enero - Junio'!$P$37 -> 0 | AA15: =IF(ISERROR(Y15/Y17*100),"0",Y15/Y17*100) -> 0 | AG15: Cortopunzante | AL15: ='Enero - Junio'!$X$37 -> 0 | AN15: =IF(ISERROR(AL15/AL17*100),"0",AL15/AL17*100) -> 0 | AT15: Cortopunzante | AY15: ='Enero - Junio'!$AF$37 -> 0 | BA15: =IF(ISERROR(AY15/AY17*100),"0",AY15/AY17*100) -> 0
I17: Totales | L17: =SUM(L5:L16) -> 6.5 | V17: Totales | Y17: =SUM(Y5:Y16) -> 0 | AI17: Totales | AL17: =SUM(AL5:AL16) -> 0 | AV17: Totales | AY17: =SUM(AY5:AY16) -> 0
L21: Kg | N21: % | Y21: Kg | AA21: % | AL21: Kg | AN21: % | AY21: Kg | BA21: %
G22: No Aprovechables | L22: ='Enero - Junio'!$AJ$37 -> 0 | N22: =IF(ISERROR(L22/L34*100),"0",L22/L34*100) -> 0 | T22: No Aprovechables | Y22: ='Enero - Junio'!$AR$37 -> 0 | AA22: =IF(ISERROR(Y22/Y34*100),"0",Y22/Y34*100) -> 0 | AG22: No Aprovechables | AL22: ='Julio - Diciembre'!$D$37 -> 0 | AN22: =IF(ISERROR(AL22/AL34*100),"0",AL22/AL34*100) -> 0 | AT22: No Aprovechables | AY22: ='Julio - Diciembre'!$L$37 -> 0 | BA22: =IF(ISERROR(AY22/AY34*100),"0",AY22/AY34*100) -> 0
N23: =IF(ISERROR(L23/L35*100),"0",L23/L35*100) -> 0 | AA23: =IF(ISERROR(Y23/Y35*100),"0",Y23/Y35*100) -> 0 | AN23: =IF(ISERROR(AL23/AL35*100),"0",AL23/AL35*100) -> 0 | BA23: =IF(ISERROR(AY23/AY35*100),"0",AY23/AY35*100) -> 0
G24: Aprovechables | L24: ='Enero - Junio'!$AI$37 -> 0 | N24: =IF(ISERROR(L24/L34*100),"0",L24/L34*100) -> 0 | T24: Aprovechables | Y24: ='Enero - Junio'!$AQ$37 -> 0 | AA24: =IF(ISERROR(Y24/Y34*100),"0",Y24/Y34*100) -> 0 | AG24: Aprovechables | AL24: ='Julio - Diciembre'!$C$37 -> 0 | AN24: =IF(ISERROR(AL24/AL34*100),"0",AL24/AL34*100) -> 0 | AT24: Aprovechables | AY24: ='Julio - Diciembre'!$K$37 -> 0 | BA24: =IF(ISERROR(AY24/AY34*100),"0",AY24/AY34*100) -> 0
N25: =IF(ISERROR(L25/L37*100),"0",L25/L37*100) -> 0 | AA25: =IF(ISERROR(Y25/Y37*100),"0",Y25/Y37*100) -> 0 | AN25: =IF(ISERROR(AL25/AL37*100),"0",AL25/AL37*100) -> 0 | BA25: =IF(ISERROR(AY25/AY37*100),"0",AY25/AY37*100) -> 0
G26: Orgánicos | L26: ='Enero - Junio'!$AK$37 -> 0 | N26: =IF(ISERROR(L26/L34*100),"0",L26/L34*100) -> 0 | T26: Orgánicos | Y26: ='Enero - Junio'!$AS$37 -> 0 | AA26: =IF(ISERROR(Y26/Y34*100),"0",Y26/Y34*100) -> 0 | AG26: Orgánicos | AL26: ='Julio - Diciembre'!$E$37 -> 0 | AN26: =IF(ISERROR(AL26/AL34*100),"0",AL26/AL34*100) -> 0 | AT26: Orgánicos | AY26: ='Julio - Diciembre'!$M$37 -> 0 | BA26: =IF(ISERROR(AY26/AY34*100),"0",AY26/AY34*100) -> 0
AA27: =IF(ISERROR(Y27/Y39*100),"0",Y27/Y39*100) -> 0 | AL27: ='Julio - Diciembre'!E38 -> 0 | AN27: =IF(ISERROR(AL27/AL39*100),"0",AL27/AL39*100) -> 0 | BA27: =IF(ISERROR(AY27/AY39*100),"0",AY27/AY39*100) -> 0
G28: Biologícos | L28: ='Enero - Junio'!$AD$37 -> 0 | N28: =IF(ISERROR(L28/L34*100),"0",L28/L34*100) -> 0 | T28: Biologícos | Y28: ='Enero - Junio'!$AT$37 -> 0 | AA28: =IF(ISERROR(Y28/Y34*100),"0",Y28/Y34*100) -> 0 | AG28: Biologícos | AL28: ='Julio - Diciembre'!$F$37 -> 0 | AN28: =IF(ISERROR(AL28/AL34*100),"0",AL28/AL34*100) -> 0 | AT28: Biologícos | AY28: ='Julio - Diciembre'!$N$37 -> 0 | BA28: =IF(ISERROR(AY28/AY34*100),"0",AY28/AY34*100) -> 0
N29: =IF(ISERROR(L29/L41*100),"0",L29/L41*100) -> 0 | AA29: =IF(ISERROR(Y29/Y41*100),"0",Y29/Y41*100) -> 0 | AL29: ='Julio - Diciembre'!E40 -> 0 | AN29: =IF(ISERROR(AL29/AL41*100),"0",AL29/AL41*100) -> 0 | BA29: =IF(ISERROR(AY29/AY41*100),"0",AY29/AY41*100) -> 0
G30: QuÍmicos | L30: ='Enero - Junio'!$AE$37 -> 0 | N30: =IF(ISERROR(L30/L34*100),"0",L30/L34*100) -> 0 | T30: QuÍmicos | Y30: ='Enero - Junio'!$AU$37 -> 0 | AA30: =IF(ISERROR(Y30/Y34*100),"0",Y30/Y34*100) -> 0 | AG30: QuÍmicos | AL30: ='Julio - Diciembre'!$G$37 -> 0 | AN30: =IF(ISERROR(AL30/AL34*100),"0",AL30/AL34*100) -> 0 | AT30: QuÍmicos | AY30: ='Julio - Diciembre'!$O$37 -> 0 | BA30: =IF(ISERROR(AY30/AY34*100),"0",AY30/AY34*100) -> 0
N31: =IF(ISERROR(L31/L34*100),"0",L31/L34*100) -> 0 | AA31: =IF(ISERROR(Y31/Y43*100),"0",Y31/Y43*100) -> 0 | AL31: ='Julio - Diciembre'!E42 -> 0 | AN31: =IF(ISERROR(AL31/AL43*100),"0",AL31/AL43*100) -> 0 | BA31: =IF(ISERROR(AY31/AY43*100),"0",AY31/AY43*100) -> 0
G32: Cortopunzante | L32: ='Enero - Junio'!$AF$37 -> 0 | N32: =IF(ISERROR(L32/L34*100),"0",L32/L34*100) -> 0 | T32: Cortopunzante | Y32: ='Enero - Junio'!$AV$37 -> 0 | AA32: =IF(ISERROR(Y32/Y34*100),"0",Y32/Y34*100) -> 0 | AG32: Cortopunzante | AL32: ='Julio - Diciembre'!$H$37 -> 0 | AN32: =IF(ISERROR(AL32/AL34*100),"0",AL32/AL34*100) -> 0 | AT32: Cortopunzante | AY32: ='Julio - Diciembre'!$P$37 -> 0 | BA32: =IF(ISERROR(AY32/AY34*100),"0",AY32/AY34*100) -> 0
I34: Totales | L34: =SUM(L22:L33) -> 0 | V34: Totales | Y34: =SUM(Y22:Y33) -> 0 | AI34: Totales | AL34: =SUM(AL22:AL33) -> 0 | AV34: Totales | AY34: =SUM(AY22:AY33) -> 0
L38: Kg | N38: % | Y38: Kg | AA38: % | AL38: Kg | AN38: % | AY38: Kg | BA38: %
G39: No Aprovechables | L39: ='Julio - Diciembre'!$T$37 -> 0 | N39: =IF(ISERROR(L39/L51*100),"0",L39/L51*100) -> 0 | T39: No Aprovechables | Y39: ='Julio - Diciembre'!$AB$37 -> 0 | AA39: =IF(ISERROR(Y39/Y51*100),"0",Y39/Y51*100) -> 0 | AG39: No Aprovechables | AL39: ='Julio - Diciembre'!$AJ$37 -> 0 | AN39: =IF(ISERROR(AL39/AL51*100),"0",AL39/AL51*100) -> 0 | AT39: No Aprovechables | AY39: ='Julio - Diciembre'!$AR$37 -> 0 | BA39: =IF(ISERROR(AY39/AY51*100),"0",AY39/AY51*100) -> 0
N40: =IF(ISERROR(L40/L52*100),"0",L40/L52*100) -> 0 | AA40: =IF(ISERROR(Y40/Y52*100),"0",Y40/Y52*100) -> 0 | AN40: =IF(ISERROR(AL40/AL52*100),"0",AL40/AL52*100) -> 0
G41: Aprovechables | L41: ='Julio - Diciembre'!$S$37 -> 0 | N41: =IF(ISERROR(L41/L51*100),"0",L41/L51*100) -> 0 | T41: Aprovechables | Y41: ='Julio - Diciembre'!$AA$37 -> 0 | AA41: =IF(ISERROR(Y41/Y51*100),"0",Y41/Y51*100) -> 0 | AG41: Aprovechables | AL41: ='Julio - Diciembre'!$AI$37 -> 0 | AN41: =IF(ISERROR(AL41/AL51*100),"0",AL41/AL51*100) -> 0 | AT41: Aprovechables | AY41: ='Julio - Diciembre'!$AQ$37 -> 0 | BA41: =IF(ISERROR(AY41/AY51*100),"0",AY41/AY51*100) -> 0
N42: =IF(ISERROR(L42/L54*100),"0",L42/L54*100) -> 0
G43: Orgánicos | L43: ='Julio - Diciembre'!$U$37 -> 0 | N43: =IF(ISERROR(L43/L51*100),"0",L43/L51*100) -> 0 | T43: Orgánicos | Y43: ='Julio - Diciembre'!$AC$37 -> 0 | AA43: =IF(ISERROR(Y43/Y51*100),"0",Y43/Y51*100) -> 0 | AG43: Orgánicos | AL43: ='Julio - Diciembre'!$AK$37 -> 0 | AN43: =IF(ISERROR(AL43/AL51*100),"0",AL43/AL51*100) -> 0 | AT43: Orgánicos | AY43: ='Julio - Diciembre'!$AS$37 -> 0 | BA43: =IF(ISERROR(AY43/AY51*100),"0",AY43/AY51*100) -> 0
N44: =IF(ISERROR(L44/L56*100),"0",L44/L56*100) -> 0
G45: Biologícos | L45: ='Julio - Diciembre'!$V$37 -> 0 | N45: =IF(ISERROR(L45/L51*100),"0",L45/L51*100) -> 0 | T45: Biologícos | Y45: ='Julio - Diciembre'!$AD$37 -> 0 | AA45: =IF(ISERROR(Y45/Y51*100),"0",Y45/Y51*100) -> 0 | AG45: Biologícos | AL45: ='Julio - Diciembre'!$AL$37 -> 0 | AN45: =IF(ISERROR(AL45/AL51*100),"0",AL45/AL51*100) -> 0 | AT45: Biologícos | AY45: ='Julio - Diciembre'!$AT$37 -> 0 | BA45: =IF(ISERROR(AY45/AY51*100),"0",AY45/AY51*100) -> 0
G47: QuÍmicos | L47: ='Julio - Diciembre'!$W$37 -> 0 | N47: =IF(ISERROR(L47/L51*100),"0",L47/L51*100) -> 0 | T47: QuÍmicos | Y47: ='Julio - Diciembre'!$AE$37 -> 0 | AA47: =IF(ISERROR(Y47/Y51*100),"0",Y47/Y51*100) -> 0 | AG47: QuÍmicos | AL47: ='Julio - Diciembre'!$AM$37 -> 0 | AN47: =IF(ISERROR(AL47/AL51*100),"0",AL47/AL51*100) -> 0 | AT47: QuÍmicos | AY47: ='Julio - Diciembre'!$AU$37 -> 0 | BA47: =IF(ISERROR(AY47/AY51*100),"0",AY47/AY51*100) -> 0
G49: Cortopunzante | L49: ='Julio - Diciembre'!$X$37 -> 0 | N49: =IF(ISERROR(L49/L51*100),"0",L49/L51*100) -> 0 | T49: Cortopunzante | Y49: ='Julio - Diciembre'!$AF$37 -> 0 | AA49: =IF(ISERROR(Y49/Y51*100),"0",Y49/Y51*100) -> 0 | AG49: Cortopunzante | AL49: ='Julio - Diciembre'!$AN$37 -> 0 | AN49: =IF(ISERROR(AL49/AL51*100),"0",AL49/AL51*100) -> 0 | AT49: Cortopunzante | AY49: ='Julio - Diciembre'!$AV$37 -> 0 | BA49: =IF(ISERROR(AY49/AY51*100),"0",AY49/AY51*100) -> 0
I51: Totales | L51: =SUM(L39:L50) -> 0 | V51: Totales | Y51: =SUM(Y39:Y50) -> 0 | AI51: Totales | AL51: =SUM(AL39:AL50) -> 0 | AV51: Totales | AY51: =SUM(AY39:AY50) -> 0

Sheet Enero - Junio
B4: Dia | C4: Aprovechables | D4: No Aprovechables | E4: Orgánicos | F4: Biológicos | G4: Químicos | H4: Cortopunzante | J4: Dia | K4: Aprovechables | L4: No Aprovechables | M4: Orgánicos | N4: Biológicos | O4: Químicos | P4: Cortopunzante | R4: Dia | S4: Aprovechables | T4: No Aprovechables | U4: Orgánicos | V4: Biológicos | W4: Químicos | X4: Cortopunzante | Z4: Dia | AA4: Aprovechables | AB4: No Aprovechables | AC4: Orgánicos | AD4: Biológicos | AE4: Químicos | AF4: Cortopunzante | AH4: Dia | AI4: Aprovechables | AJ4: No Aprovechables | AK4: Orgánicos | AL4: Biológicos | AM4: Químicos | AN4: Cortopunzante | AP4: Dia | AQ4: Aprovechables | AR4: No Aprovechables | AS4: Orgánicos | AT4: Biológicos | AU4: Químicos | AV4: Cortopunzante
B5: 1 | C5: 0 | D5: 0 | E5: 0 | F5: 0 | G5: 0 | H5: 0 | J5: 1 | K5: 0 | L5: 0 | M5: 0 | N5: 0 | O5: 0 | P5: 0 | R5: 1 | S5: 0 | T5: 0 | U5: 0 | V5: 0 | W5: 0 | X5: 0 | Z5: 1 | AA5: 0 | AB5: 0 | AC5: 0 | AD5: 0 | AE5: 0 | AF5: 0 | AH5: 1 | AI5: 0 | AJ5: 0 | AK5: 0 | AL5: 0 | AM5: 0 | AN5: 0 | AP5: 1 | AQ5: 0 | AR5: 0 | AS5: 0 | AT5: 0 | AU5: 0 | AV5: 0
B6: 2 | C6: 0 | D6: 0 | E6: 0 | F6: 0 | G6: 0 | H6: 0 | J6: 2 | K6: 0 | L6: 0 | M6: 0 | N6: 0 | O6: 0 | P6: 0 | R6: 2 | S6: 0 | T6: 0 | U6: 0 | V6: 0 | W6: 0 | X6: 0 | Z6: 2 | AA6: 0 | AB6: 0 | AC6: 0 | AD6: 0 | AE6: 0 | AF6: 0 | AH6: 2 | AI6: 0 | AJ6: 0 | AK6: 0 | AL6: 0 | AM6: 0 | AN6: 0 | AP6: 2 | AQ6: 0 | AR6: 0 | AS6: 0 | AT6: 0 | AU6: 0 | AV6: 0
B7: 3 | C7: 0 | D7: 0 | E7: 0 | F7: 0 | G7: 0 | H7: 0 | J7: 3 | K7: 0 | L7: 0 | M7: 0 | N7: 0 | O7: 0 | P7: 0 | R7: 3 | S7: 0 | T7: 0 | U7: 0 | V7: 0 | W7: 0 | X7: 0 | Z7: 3 | AA7: 0 | AB7: 0 | AC7: 0 | AD7: 0 | AE7: 0 | AF7: 0 | AH7: 3 | AI7: 0 | AJ7: 0 | AK7: 0 | AL7: 0 | AM7: 0 | AN7: 0 | AP7: 3 | AQ7: 0 | AR7: 0 | AS7: 0 | AT7: 0 | AU7: 0 | AV7: 0
B8: 4 | C8: 3 | D8: 1 | E8: 0 | F8: 0 | G8: 0 | H8: 0 | J8: 4 | K8: 0 | L8: 0 | M8: 0 | N8: 0 | O8: 0 | P8: 0 | R8: 4 | S8: 0 | T8: 0 | U8: 0 | V8: 0 | W8: 0 | X8: 0 | Z8: 4 | AA8: 0 | AB8: 0 | AC8: 0 | AD8: 0 | AE8: 0 | AF8: 0 | AH8: 4 | AI8: 0 | AJ8: 0 | AK8: 0 | AL8: 0 | AM8: 0 | AN8: 0 | AP8: 4 | AQ8: 0 | AR8: 0 | AS8: 0 | AT8: 0 | AU8: 0 | AV8: 0
B9: 5 | C9: 0 | D9: 0 | E9: 0 | F9: 0 | G9: 0 | H9: 0 | J9: 5 | K9: 0 | L9: 0 | M9: 0 | N9: 0 | O9: 0 | P9: 0 | R9: 5 | S9: 0 | T9: 0 | U9: 0 | V9: 0 | W9: 0 | X9: 0 | Z9: 5 | AA9: 0 | AB9: 0 | AC9: 0 | AD9: 0 | AE9: 0 | AF9: 0 | AH9: 5 | AI9: 0 | AJ9: 0 | AK9: 0 | AL9: 0 | AM9: 0 | AN9: 0 | AP9: 5 | AQ9: 0 | AR9: 0 | AS9: 0 | AT9: 0 | AU9: 0 | AV9: 0
B10: 6 | C10: 0 | D10: 0 | E10: 0 | F10: 0 | G10: 0 | H10: 0 | J10: 6 | K10: 0 | L10: 0 | M10: 0 | N10: 0 | O10: 0 | P10: 0 | R10: 6 | S10: 0 | T10: 0 | U10: 0 | V10: 0 | W10: 0 | X10: 0 | Z10: 6 | AA10: 0 | AB10: 0 | AC10: 0 | AD10: 0 | AE10: 0 | AF10: 0 | AH10: 6 | AI10: 0 | AJ10: 0 | AK10: 0 | AL10: 0 | AM10: 0 | AN10: 0 | AP10: 6 | AQ10: 0 | AR10: 0 | AS10: 0 | AT10: 0 | AU10: 0 | AV10: 0
B11: 7 | C11: 0 | D11: 0 | E11: 0 | F11: 0 | G11: 0 | H11: 0 | J11: 7 | K11: 0 | L11: 0 | M11: 0 | N11: 0 | O11: 0 | P11: 0 | R11: 7 | S11: 0 | T11: 0 | U11: 0 | V11: 0 | W11: 0 | X11: 0 | Z11: 7 | AA11: 0 | AB11: 0 | AC11: 0 | AD11: 0 | AE11: 0 | AF11: 0 | AH11: 7 | AI11: 0 | AJ11: 0 | AK11: 0 | AL11: 0 | AM11: 0 | AN11: 0 | AP11: 7 | AQ11: 0 | AR11: 0 | AS11: 0 | AT11: 0 | AU11: 0 | AV11: 0
B12: 9 | C12: 0 | D12: 0 | E12: 0 | F12: 0 | G12: 0 | H12: 0 | J12: 9 | K12: 0 | L12: 0 | M12: 0 | N12: 0 | O12: 0 | P12: 0 | R12: 9 | S12: 0 | T12: 0 | U12: 0 | V12: 0 | W12: 0 | X12: 0 | Z12: 9 | AA12: 0 | AB12: 0 | AC12: 0 | AD12: 0 | AE12: 0 | AF12: 0 | AH12: 9 | AI12: 0 | AJ12: 0 | AK12: 0 | AL12: 0 | AM12: 0 | AN12: 0 | AP12: 9 | AQ12: 0 | AR12: 0 | AS12: 0 | AT12: 0 | AU12: 0 | AV12: 0
B13: 8 | C13: 0 | D13: 0 | E13: 0 | F13: 0 | G13: 0 | H13: 0 | J13: 8 | K13: 0 | L13: 0 | M13: 0 | N13: 0 | O13: 0 | P13: 0 | R13: 8 | S13: 0 | T13: 0 | U13: 0 | V13: 0 | W13: 0 | X13: 0 | Z13: 8 | AA13: 0 | AB13: 0 | AC13: 0 | AD13: 0 | AE13: 0 | AF13: 0 | AH13: 8 | AI13: 0 | AJ13: 0 | AK13: 0 | AL13: 0 | AM13: 0 | AN13: 0 | AP13: 8 | AQ13: 0 | AR13: 0 | AS13: 0 | AT13: 0 | AU13: 0 | AV13: 0
B14: 9 | C14: 0 | D14: 0 | E14: 0 | F14: 0 | G14: 0 | H14: 0 | J14: 9 | K14: 0 | L14: 0 | M14: 0 | N14: 0 | O14: 0 | P14: 0 | R14: 9 | S14: 0 | T14: 0 | U14: 0 | V14: 0 | W14: 0 | X14: 0 | Z14: 9 | AA14: 0 | AB14: 0 | AC14: 0 | AD14: 0 | AE14: 0 | AF14: 0 | AH14: 9 | AI14: 0 | AJ14: 0 | AK14: 0 | AL14: 0 | AM14: 0 | AN14: 0 | AP14: 9 | AQ14: 0 | AR14: 0 | AS14: 0 | AT14: 0 | AU14: 0 | AV14: 0
B15: 10 | C15: 0 | D15: 0 | E15: 0 | F15: 0 | G15: 0 | H15: 0 | J15: 10 | K15: 0 | L15: 0 | M15: 0 | N15: 0 | O15: 0 | P15: 0 | R15: 10 | S15: 0 | T15: 0 | U15: 0 | V15: 0 | W15: 0 | X15: 0 | Z15: 10 | AA15: 0 | AB15: 0 | AC15: 0 | AD15: 0 | AE15: 0 | AF15: 0 | AH15: 10 | AI15: 0 | AJ15: 0 | AK15: 0 | AL15: 0 | AM15: 0 | AN15: 0 | AP15: 10 | AQ15: 0 | AR15: 0 | AS15: 0 | AT15: 0 | AU15: 0 | AV15: 0
B16: 11 | C16: 0 | D16: 0 | E16: 0 | F16: 0 | G16: 0 | H16: 0 | J16: 11 | K16: 0 | L16: 0 | M16: 0 | N16: 0 | O16: 0 | P16: 0 | R16: 11 | S16: 0 | T16: 0 | U16: 0 | V16: 0 | W16: 0 | X16: 0 | Z16: 11 | AA16: 0 | AB16: 0 | AC16: 0 | AD16: 0 | AE16: 0 | AF16: 0 | AH16: 11 | AI16: 0 | AJ16: 0 | AK16: 0 | AL16: 0 | AM16: 0 | AN16: 0 | AP16: 11 | AQ16: 0 | AR16: 0 | AS16: 0 | AT16: 0 | AU16: 0 | AV16: 0
... B36: 31 | C36: 0 | D36: 0 | E36: 0 | F36: 0.5 | G36: 1 | H36: 1 | J36: 31 | K36: 0 | L36: 0 | M36: 0 | N36: 0 | O36: 0 | P36: 0 | R36: 31 | S36: 0 | T36: 0 | U36: 0 | V36: 0 | W36: 0 | X36: 0 | Z36: 31 | AA36: 0 | AB36: 0 | AC36: 0 | AD36: 0 | AE36: 0 | AF36: 0 | AH36: 31 | AI36: 0 | AJ36: 0 | AK36: 0 | AL36: 0 | AM36: 0 | AN36: 0 | AP36: 31 | AQ36: 0 | AR36: 0 | AS36: 0 | AT36: 0 | AU36: 0 | AV36: 0
B37: T | C37: =SUM(C5:C36) -> 3 | D37: =SUM(D5:D36) -> 1 | E37: =SUM(E5:E36) -> 0 | F37: =SUM(F5:F36) -> 0.5 | G37: =SUM(G5:G36) -> 1 | H37: =SUM(H5:H36) -> 1 | J37: T | K37: =SUM(K5:K36) -> 0 | L37: =SUM(L5:L36) -> 0 | M37: =SUM(M5:M36) -> 0 | N37: =SUM(N5:N36) -> 0 | O37: =SUM(O5:O36) -> 0 | P37: =SUM(P5:P36) -> 0 | R37: T | S37: =SUM(S5:S36) -> 0 | T37: =SUM(T5:T36) -> 0 | U37: =SUM(U5:U36) -> 0 | V37: =SUM(V5:V36) -> 0 | W37: =SUM(W5:W36) -> 0 | X37: =SUM(X5:X36) -> 0 | Z37: T | AA37: =SUM(AA5:AA36) -> 0 | AB37: =SUM(AB5:AB36) -> 0 | AC37: =SUM(AC5:AC36) -> 0 | AD37: =SUM(AD5:AD36) -> 0 | AE37: =SUM(AE5:AE36) -> 0 | AF37: =SUM(AF5:AF36) -> 0 | AH37: T | AI37: =SUM(AI5:AI36) -> 0 | AJ37: =SUM(AJ5:AJ36) -> 0 | AK37: =SUM(AK5:AK36) -> 0 | AL37: =SUM(AL5:AL36) -> 0 | AM37: =SUM(AM5:AM36) -> 0 | AN37: =SUM(AN5:AN36) -> 0 | AP37: T | AQ37: =SUM(AQ5:AQ36) -> 0 | AR37: =SUM(AR5:AR36) -> 0 | AS37: =SUM(AS5:AS36) -> 0 | AT37: =SUM(AT5:AT36) -> 0 | AU37: =SUM(AU5:AU36) -> 0 | AV37: =SUM(AV5:AV36) -> 0

Sheet Julio - Diciembre
B4: Dia | C4: Aprovechables | D4: No Aprovechables | E4: Orgánicos | F4: Biologicos | G4: Químicos | H4: Cortopunzante | J4: Dia | K4: Aprovechables | L4: No Aprovechables | M4: Orgánicos | N4: Biologicos | O4: Químicos | P4: Cortopunzante | R4: Dia | S4: Aprovechables | T4: No Aprovechables | U4: Orgánicos | V4: Biologicos | W4: Químicos | X4: Cortopunzante | Z4: Dia | AA4: Aprovechables | AB4: No Aprovechables | AC4: Orgánicos | AD4: Biologicos | AE4: Químicos | AF4: Cortopunzante | AH4: Dia | AI4: Aprobechables | AJ4: No Aprovechables | AK4: Orgánicos | AL4: Biologicos | AM4: Químicos | AN4: Cortopunzante | AP4: Dia | AQ4: Aprovechables | AR4: No Aprovechables | AS4: Orgánicos | AT4: Biologicos | AU4: Químicos | AV4: Cortopunzante
B5: 1 | C5: 0 | D5: 0 | E5: 0 | F5: 0 | G5: 0 | H5: 0 | J5: 1 | K5: 0 | L5: 0 | M5: 0 | N5: 0 | O5: 0 | P5: 0 | R5: 1 | S5: 0 | T5: 0 | U5: 0 | V5: 0 | W5: 0 | X5: 0 | Z5: 1 | AA5: 0 | AB5: 0 | AC5: 0 | AD5: 0 | AE5: 0 | AF5: 0 | AH5: 1 | AI5: 0 | AJ5: 0 | AK5: 0 | AL5: 0 | AM5: 0 | AN5: 0 | AP5: 1 | AQ5: 0 | AR5: 0 | AS5: 0 | AT5: 0 | AU5: 0 | AV5: 0
B6: 2 | C6: 0 | D6: 0 | E6: 0 | F6: 0 | G6: 0 | H6: 0 | J6: 2 | K6: 0 | L6: 0 | M6: 0 | N6: 0 | O6: 0 | P6: 0 | R6: 2 | S6: 0 | T6: 0 | U6: 0 | V6: 0 | W6: 0 | X6: 0 | Z6: 2 | AA6: 0 | AB6: 0 | AC6: 0 | AD6: 0 | AE6: 0 | AF6: 0 | AH6: 2 | AI6: 0 | AJ6: 0 | AK6: 0 | AL6: 0 | AM6: 0 | AN6: 0 | AP6: 2 | AQ6: 0 | AR6: 0 | AS6: 0 | AT6: 0 | AU6: 0 | AV6: 0
B7: 3 | C7: 0 | D7: 0 | E7: 0 | F7: 0 | G7: 0 | H7: 0 | J7: 3 | K7: 0 | L7: 0 | M7: 0 | N7: 0 | O7: 0 | P7: 0 | R7: 3 | S7: 0 | T7: 0 | U7: 0 | V7: 0 | W7: 0 | X7: 0 | Z7: 3 | AA7: 0 | AB7: 0 | AC7: 0 | AD7: 0 | AE7: 0 | AF7: 0 | AH7: 3 | AI7: 0 | AJ7: 0 | AK7: 0 | AL7: 0 | AM7: 0 | AN7: 0 | AP7: 3 | AQ7: 0 | AR7: 0 | AS7: 0 | AT7: 0 | AU7: 0 | AV7: 0
B8: 4 | C8: 0 | D8: 0 | E8: 0 | F8: 0 | G8: 0 | H8: 0 | J8: 4 | K8: 0 | L8: 0 | M8: 0 | N8: 0 | O8: 0 | P8: 0 | R8: 4 | S8: 0 | T8: 0 | U8: 0 | V8: 0 | W8: 0 | X8: 0 | Z8: 4 | AA8: 0 | AB8: 0 | AC8: 0 | AD8: 0 | AE8: 0 | AF8: 0 | AH8: 4 | AI8: 0 | AJ8: 0 | AK8: 0 | AL8: 0 | AM8: 0 | AN8: 0 | AP8: 4 | AQ8: 0 | AR8: 0 | AS8: 0 | AT8: 0 | AU8: 0 | AV8: 0
B9: 5 | C9: 0 | D9: 0 | E9: 0 | F9: 0 | G9: 0 | H9: 0 | J9: 5 | K9: 0 | L9: 0 | M9: 0 | N9: 0 | O9: 0 | P9: 0 | R9: 5 | S9: 0 | T9: 0 | U9: 0 | V9: 0 | W9: 0 | X9: 0 | Z9: 5 | AA9: 0 | AB9: 0 | AC9: 0 | AD9: 0 | AE9: 0 | AF9: 0 | AH9: 5 | AI9: 0 | AJ9: 0 | AK9: 0 | AL9: 0 | AM9: 0 | AN9: 0 | AP9: 5 | AQ9: 0 | AR9: 0 | AS9: 0 | AT9: 0 | AU9: 0 | AV9: 0
B10: 6 | C10: 0 | D10: 0 | E10: 0 | F10: 0 | G10: 0 | H10: 0 | J10: 6 | K10: 0 | L10: 0 | M10: 0 | N10: 0 | O10: 0 | P10: 0 | R10: 6 | S10: 0 | T10: 0 | U10: 0 | V10: 0 | W10: 0 | X10: 0 | Z10: 6 | AA10: 0 | AB10: 0 | AC10: 0 | AD10: 0 | AE10: 0 | AF10: 0 | AH10: 6 | AI10: 0 | AJ10: 0 | AK10: 0 | AL10: 0 | AM10: 0 | AN10: 0 | AP10: 6 | AQ10: 0 | AR10: 0 | AS10: 0 | AT10: 0 | AU10: 0 | AV10: 0
B11: 7 | C11: 0 | D11: 0 | E11: 0 | F11: 0 | G11: 0 | H11: 0 | J11: 7 | K11: 0 | L11: 0 | M11: 0 | N11: 0 | O11: 0 | P11: 0 | R11: 7 | S11: 0 | T11: 0 | U11: 0 | V11: 0 | W11: 0 | X11: 0 | Z11: 7 | AA11: 0 | AB11: 0 | AC11: 0 | AD11: 0 | AE11: 0 | AF11: 0 | AH11: 7 | AI11: 0 | AJ11: 0 | AK11: 0 | AL11: 0 | AM11: 0 | AN11: 0 | AP11: 7 | AQ11: 0 | AR11: 0 | AS11: 0 | AT11: 0 | AU11: 0 | AV11: 0
B12: 9 | C12: 0 | D12: 0 | E12: 0 | F12: 0 | G12: 0 | H12: 0 | J12: 9 | K12: 0 | L12: 0 | M12: 0 | N12: 0 | O12: 0 | P12: 0 | R12: 9 | S12: 0 | T12: 0 | U12: 0 | V12: 0 | W12: 0 | X12: 0 | Z12: 9 | AA12: 0 | AB12: 0 | AC12: 0 | AD12: 0 | AE12: 0 | AF12: 0 | AH12: 9 | AI12: 0 | AJ12: 0 | AK12: 0 | AL12: 0 | AM12: 0 | AN12: 0 | AP12: 9 | AQ12: 0 | AR12: 0 | AS12: 0 | AT12: 0 | AU12: 0 | AV12: 0
B13: 8 | C13: 0 | D13: 0 | E13: 0 | F13: 0 | G13: 0 | H13: 0 | J13: 8 | K13: 0 | L13: 0 | M13: 0 | N13: 0 | O13: 0 | P13: 0 | R13: 8 | S13: 0 | T13: 0 | U13: 0 | V13: 0 | W13: 0 | X13: 0 | Z13: 8 | AA13: 0 | AB13: 0 | AC13: 0 | AD13: 0 | AE13: 0 | AF13: 0 | AH13: 8 | AI13: 0 | AJ13: 0 | AK13: 0 | AL13: 0 | AM13: 0 | AN13: 0 | AP13: 8 | AQ13: 0 | AR13: 0 | AS13: 0 | AT13: 0 | AU13: 0 | AV13: 0
B14: 9 | C14: 0 | D14: 0 | E14: 0 | F14: 0 | G14: 0 | H14: 0 | J14: 9 | K14: 0 | L14: 0 | M14: 0 | N14: 0 | O14: 0 | P14: 0 | R14: 9 | S14: 0 | T14: 0 | U14: 0 | V14: 0 | W14: 0 | X14: 0 | Z14: 9 | AA14: 0 | AB14: 0 | AC14: 0 | AD14: 0 | AE14: 0 | AF14: 0 | AH14: 9 | AI14: 0 | AJ14: 0 | AK14: 0 | AL14: 0 | AM14: 0 | AN14: 0 | AP14: 9 | AQ14: 0 | AR14: 0 | AS14: 0 | AT14: 0 | AU14: 0 | AV14: 0
B15: 10 | C15: 0 | D15: 0 | E15: 0 | F15: 0 | G15: 0 | H15: 0 | J15: 10 | K15: 0 | L15: 0 | M15: 0 | N15: 0 | O15: 0 | P15: 0 | R15: 10 | S15: 0 | T15: 0 | U15: 0 | V15: 0 | W15: 0 | X15: 0 | Z15: 10 | AA15: 0 | AB15: 0 | AC15: 0 | AD15: 0 | AE15: 0 | AF15: 0 | AH15: 10 | AI15: 0 | AJ15: 0 | AK15: 0 | AL15: 0 | AM15: 0 | AN15: 0 | AP15: 10 | AQ15: 0 | AR15: 0 | AS15: 0 | AT15: 0 | AU15: 0 | AV15: 0
B16: 11 | C16: 0 | D16: 0 | E16: 0 | F16: 0 | G16: 0 | H16: 0 | J16: 11 | K16: 0 | L16: 0 | M16: 0 | N16: 0 | O16: 0 | P16: 0 | R16: 11 | S16: 0 | T16: 0 | U16: 0 | V16: 0 | W16: 0 | X16: 0 | Z16: 11 | AA16: 0 | AB16: 0 | AC16: 0 | AD16: 0 | AE16: 0 | AF16: 0 | AH16: 11 | AI16: 0 | AJ16: 0 | AK16: 0 | AL16: 0 | AM16: 0 | AN16: 0 | AP16: 11 | AQ16: 0 | AR16: 0 | AS16: 0 | AT16: 0 | AU16: 0 | AV16: 0
... B36: 31 | C36: 0 | D36: 0 | E36: 0 | F36: 0 | G36: 0 | H36: 0 | J36: 31 | K36: 0 | L36: 0 | M36: 0 | N36: 0 | O36: 0 | P36: 0 | R36: 31 | S36: 0 | T36: 0 | U36: 0 | V36: 0 | W36: 0 | X36: 0 | Z36: 31 | AA36: 0 | AB36: 0 | AC36: 0 | AD36: 0 | AE36: 0 | AF36: 0 | AH36: 31 | AI36: 0 | AJ36: 0 | AK36: 0 | AL36: 0 | AM36: 0 | AN36: 0 | AP36: 31 | AQ36: 0 | AR36: 0 | AS36: 0 | AT36: 0 | AU36: 0 | AV36: 0
B37: T | C37: =SUM(C5:C36) -> 0 | D37: =SUM(D5:D36) -> 0 | E37: =SUM(E5:E36) -> 0 | F37: =SUM(F5:F36) -> 0 | G37: =SUM(G5:G36) -> 0 | H37: =SUM(H5:H36) -> 0 | J37: T | K37: =SUM(K5:K36) -> 0 | L37: =SUM(L5:L36) -> 0 | M37: =SUM(M5:M36) -> 0 | N37: =SUM(N5:N36) -> 0 | O37: =SUM(O5:O36) -> 0 | P37: =SUM(P5:P36) -> 0 | R37: T | S37: =SUM(S5:S36) -> 0 | T37: =SUM(T5:T36) -> 0 | U37: =SUM(U5:U36) -> 0 | V37: =SUM(V5:V36) -> 0 | W37: =SUM(W5:W36) -> 0 | X37: =SUM(X5:X36) -> 0 | Z37: T | AA37: =SUM(AA5:AA36) -> 0 | AB37: =SUM(AB5:AB36) -> 0 | AC37: =SUM(AC5:AC36) -> 0 | AD37: =SUM(AD5:AD36) -> 0 | AE37: =SUM(AE5:AE36) -> 0 | AF37: =SUM(AF5:AF36) -> 0 | AH37: T | AI37: =SUM(AI5:AI36) -> 0 | AJ37: =SUM(AJ5:AJ36) -> 0 | AK37: =SUM(AK5:AK36) -> 0 | AL37: =SUM(AL5:AL36) -> 0 | AM37: =SUM(AM5:AM36) -> 0 | AN37: =SUM(AN5:AN36) -> 0 | AP37: T | AQ37: =SUM(AQ5:AQ36) -> 0 | AR37: =SUM(AR5:AR36) -> 0 | AS37: =SUM(AS5:AS36) -> 0 | AT37: =SUM(AT5:AT36) -> 0 | AU37: =SUM(AU5:AU36) -> 0 | AV37: =SUM(AV5:AV36) -> 0
